BEGIN:VCALENDAR
VERSION:2.0
PRODID:-//wp-events-plugin.com//7.2.3.1//EN
TZID:Asia/Tokyo
X-WR-TIMEZONE:Asia/Tokyo
BEGIN:VEVENT
UID:108@town.minamifurano.hokkaido.jp
DTSTART;TZID=Asia/Tokyo:20260308T090000
DTEND;TZID=Asia/Tokyo:20260308T090000
DTSTAMP:20260224T000701Z
URL:https://www.town.minamifurano.hokkaido.jp/events/%e7%94%ba%e6%b0%91%e3
 %83%9f%e3%83%8b%e3%83%90%e3%83%ac%e3%83%bc%e3%83%9c%e3%83%bc%e3%83%ab%e5%a
 4%a7%e4%bc%9a/
SUMMARY:町民ミニバレーボール大会
DESCRIPTION:町体 受付 9：00→
LOCATION:町民体育館\, 南富良野町\, 南富良野町\, 北海道\, 
 日本
X-APPLE-STRUCTURED-LOCATION;VALUE=URI;X-ADDRESS=南富良野町\, 南富良
 野町\, 北海道\, 日本;X-APPLE-RADIUS=100;X-TITLE=町民体育館:geo
 :0,0
END:VEVENT
BEGIN:VTIMEZONE
TZID:Asia/Tokyo
X-LIC-LOCATION:Asia/Tokyo
BEGIN:STANDARD
DTSTART:20250308T090000
TZOFFSETFROM:+0900
TZOFFSETTO:+0900
TZNAME:JST
END:STANDARD
END:VTIMEZONE
END:VCALENDAR