BEGIN:VCALENDAR
VERSION:2.0
PRODID:-//wp-events-plugin.com//7.2.3.1//EN
TZID:Asia/Tokyo
X-WR-TIMEZONE:Asia/Tokyo
BEGIN:VEVENT
UID:176@town.minamifurano.hokkaido.jp
DTSTART;TZID=Asia/Tokyo:20260403T100000
DTEND;TZID=Asia/Tokyo:20260403T100000
DTSTAMP:20260318T043253Z
URL:https://www.town.minamifurano.hokkaido.jp/events/%e5%b9%be%e5%af%85%e3
 %83%bb%e9%87%91%e5%b1%b1%e4%bf%9d%e8%82%b2%e6%89%80%e5%90%88%e5%90%8c%e5%8
 5%a5%e6%89%80%e5%bc%8f/
SUMMARY:幾寅・金山保育所合同入所式
DESCRIPTION:
LOCATION:幾寅保育所\, 幾寅\, 日本
X-APPLE-STRUCTURED-LOCATION;VALUE=URI;X-ADDRESS=幾寅\, 日本;X-APPLE-RAD
 IUS=100;X-TITLE=幾寅保育所:geo:0,0
END:VEVENT
BEGIN:VTIMEZONE
TZID:Asia/Tokyo
X-LIC-LOCATION:Asia/Tokyo
BEGIN:STANDARD
DTSTART:20250403T100000
TZOFFSETFROM:+0900
TZOFFSETTO:+0900
TZNAME:JST
END:STANDARD
END:VTIMEZONE
END:VCALENDAR