BEGIN:VCALENDAR
VERSION:2.0
PRODID:-//wp-events-plugin.com//7.2.3.1//EN
TZID:Asia/Tokyo
X-WR-TIMEZONE:Asia/Tokyo
BEGIN:VEVENT
UID:112@town.minamifurano.hokkaido.jp
DTSTART;TZID=Asia/Tokyo:20260312T090000
DTEND;TZID=Asia/Tokyo:20260312T090000
DTSTAMP:20260224T001201Z
URL:https://www.town.minamifurano.hokkaido.jp/events/%e5%8d%97%e5%af%8c%e8
 %89%af%e9%87%8e%e4%b8%ad%e5%ad%a6%e6%a0%a1%e5%8d%92%e6%a5%ad%e5%bc%8f/
SUMMARY:南富良野中学校卒業式
DESCRIPTION:[同校体育館] 9：00→
LOCATION:中学校体育館\, 南富良野町\, 南富良野町\, 北海道
 \, 日本
X-APPLE-STRUCTURED-LOCATION;VALUE=URI;X-ADDRESS=南富良野町\, 南富良
 野町\, 北海道\, 日本;X-APPLE-RADIUS=100;X-TITLE=中学校体育館:
 geo:0,0
END:VEVENT
BEGIN:VTIMEZONE
TZID:Asia/Tokyo
X-LIC-LOCATION:Asia/Tokyo
BEGIN:STANDARD
DTSTART:20250312T090000
TZOFFSETFROM:+0900
TZOFFSETTO:+0900
TZNAME:JST
END:STANDARD
END:VTIMEZONE
END:VCALENDAR