BEGIN:VCALENDAR
VERSION:2.0
PRODID:-//wp-events-plugin.com//7.2.3.1//EN
TZID:Asia/Tokyo
X-WR-TIMEZONE:Asia/Tokyo
BEGIN:VEVENT
UID:39@town.minamifurano.hokkaido.jp
DTSTART;TZID=Asia/Tokyo:20260202T100000
DTEND;TZID=Asia/Tokyo:20260202T110000
DTSTAMP:20260129T013037Z
URL:https://www.town.minamifurano.hokkaido.jp/events/%e5%87%ba%e5%bc%b5%e9
 %87%91%e5%b1%b1%e5%ad%90%e8%82%b2%e3%81%a6%e6%94%af%e6%8f%b4%e3%82%bb%e3%8
 3%b3%e3%82%bf%e3%83%bc/
SUMMARY:出張金山子育て支援センター
DESCRIPTION:
LOCATION:金山保育所\, 北海道空知郡南富良野町金山１１１
 ９−５\, 南富良野町\, 北海道\, 079-2131\, 日本
X-APPLE-STRUCTURED-LOCATION;VALUE=URI;X-ADDRESS=北海道空知郡南富良
 野町金山１１１９−５\, 南富良野町\, 北海道\, 079-2131\, 
 日本;X-APPLE-RADIUS=100;X-TITLE=金山保育所:geo:0,0
END:VEVENT
BEGIN:VTIMEZONE
TZID:Asia/Tokyo
X-LIC-LOCATION:Asia/Tokyo
BEGIN:STANDARD
DTSTART:20250202T100000
TZOFFSETFROM:+0900
TZOFFSETTO:+0900
TZNAME:JST
END:STANDARD
END:VTIMEZONE
END:VCALENDAR