BEGIN:VCALENDAR
VERSION:2.0
PRODID:-//wp-events-plugin.com//7.2.3.1//EN
TZID:Asia/Tokyo
X-WR-TIMEZONE:Asia/Tokyo
BEGIN:VEVENT
UID:55@town.minamifurano.hokkaido.jp
DTSTART;TZID=Asia/Tokyo:20260218T113000
DTEND;TZID=Asia/Tokyo:20260218T123000
DTSTAMP:20260129T013853Z
URL:https://www.town.minamifurano.hokkaido.jp/events/%e4%b9%b3%e5%b9%bc%e5
 %85%90%e4%ba%88%e9%98%b2%e6%8e%a5%e7%a8%ae%e5%b9%be%e5%af%85-2026-02-04-20
 26-02-18/
SUMMARY:乳幼児予防接種(幾寅)
DESCRIPTION:
LOCATION:幾寅診療所\, 北海道空知郡南富良野町幾寅\, 南富
 良野町\, 079-2401\, 日本
X-APPLE-STRUCTURED-LOCATION;VALUE=URI;X-ADDRESS=北海道空知郡南富良
 野町幾寅\, 南富良野町\, 079-2401\, 日本;X-APPLE-RADIUS=100;X-TI
 TLE=幾寅診療所:geo:0,0
END:VEVENT
BEGIN:VTIMEZONE
TZID:Asia/Tokyo
X-LIC-LOCATION:Asia/Tokyo
BEGIN:STANDARD
DTSTART:20250218T113000
TZOFFSETFROM:+0900
TZOFFSETTO:+0900
TZNAME:JST
END:STANDARD
END:VTIMEZONE
END:VCALENDAR