BEGIN:VCALENDAR
VERSION:2.0
PRODID:-//wp-events-plugin.com//7.2.3.1//EN
TZID:Asia/Tokyo
X-WR-TIMEZONE:Asia/Tokyo
BEGIN:VEVENT
UID:58@town.minamifurano.hokkaido.jp
DTSTART;TZID=Asia/Tokyo:20260204T133000
DTEND;TZID=Asia/Tokyo:20260204T134500
DTSTAMP:20260129T013957Z
URL:https://www.town.minamifurano.hokkaido.jp/events/%e4%b9%b3%e5%b9%bc%e5
 %85%90%e4%ba%88%e9%98%b2%e6%8e%a5%e7%a8%ae%e3%81%91%e3%82%93%e4%b8%89-2026
 -02-04/
SUMMARY:乳幼児予防接種(けん三)
DESCRIPTION:
LOCATION:けん三のことば館クリニック\, 北海道空知郡南富
 良野町幾寅６１７−２２\, 南富良野\, 079-2401\, 日本
X-APPLE-STRUCTURED-LOCATION;VALUE=URI;X-ADDRESS=北海道空知郡南富良
 野町幾寅６１７−２２\, 南富良野\, 079-2401\, 日本;X-APPLE-
 RADIUS=100;X-TITLE=けん三のことば館クリニック:geo:0,0
END:VEVENT
BEGIN:VTIMEZONE
TZID:Asia/Tokyo
X-LIC-LOCATION:Asia/Tokyo
BEGIN:STANDARD
DTSTART:20250204T133000
TZOFFSETFROM:+0900
TZOFFSETTO:+0900
TZNAME:JST
END:STANDARD
END:VTIMEZONE
END:VCALENDAR