BEGIN:VCALENDAR
VERSION:2.0
PRODID:-//wp-events-plugin.com//7.2.3.1//EN
TZID:Asia/Tokyo
X-WR-TIMEZONE:Asia/Tokyo
BEGIN:VEVENT
UID:156@town.minamifurano.hokkaido.jp
DTSTART;TZID=Asia/Tokyo:20260318T100000
DTEND;TZID=Asia/Tokyo:20260318T110000
DTSTAMP:20260318T040236Z
URL:https://www.town.minamifurano.hokkaido.jp/events/%e3%83%9e%e3%82%bf%e3
 %83%8b%e3%83%86%e3%82%a3%e6%95%99%e5%ae%a4-2026-03-18/
SUMMARY:マタニティ教室
DESCRIPTION:
LOCATION:地域交流スペース\, 南富良野町\, 南富良野町\, 北
 海道\, 日本
X-APPLE-STRUCTURED-LOCATION;VALUE=URI;X-ADDRESS=南富良野町\, 南富良
 野町\, 北海道\, 日本;X-APPLE-RADIUS=100;X-TITLE=地域交流スペ
 ース:geo:0,0
END:VEVENT
BEGIN:VTIMEZONE
TZID:Asia/Tokyo
X-LIC-LOCATION:Asia/Tokyo
BEGIN:STANDARD
DTSTART:20250318T100000
TZOFFSETFROM:+0900
TZOFFSETTO:+0900
TZNAME:JST
END:STANDARD
END:VTIMEZONE
END:VCALENDAR