BEGIN:VCALENDAR
VERSION:2.0
PRODID:-//wp-events-plugin.com//7.2.3.1//EN
TZID:Asia/Tokyo
X-WR-TIMEZONE:Asia/Tokyo
BEGIN:VEVENT
UID:109@town.minamifurano.hokkaido.jp
DTSTART;TZID=Asia/Tokyo:20260308T090000
DTEND;TZID=Asia/Tokyo:20260308T090000
DTSTAMP:20260224T000758Z
URL:https://www.town.minamifurano.hokkaido.jp/events/%e3%82%b8%e3%83%a5%e3
 %83%8b%e3%82%a2%e5%9f%ba%e7%a4%8e%e3%82%b9%e3%82%ad%e3%83%bc%e3%83%86%e3%8
 2%b9%e3%83%88/
SUMMARY:ジュニア基礎スキーテスト
DESCRIPTION:[国設南ふらのスキー場]\n受付 9：00→
LOCATION:国設南ふらのスキー場\, 南富良野町\, 南富良野町
 \, 北海道\, 日本
X-APPLE-STRUCTURED-LOCATION;VALUE=URI;X-ADDRESS=南富良野町\, 南富良
 野町\, 北海道\, 日本;X-APPLE-RADIUS=100;X-TITLE=国設南ふらの
 スキー場:geo:0,0
END:VEVENT
BEGIN:VTIMEZONE
TZID:Asia/Tokyo
X-LIC-LOCATION:Asia/Tokyo
BEGIN:STANDARD
DTSTART:20250308T090000
TZOFFSETFROM:+0900
TZOFFSETTO:+0900
TZNAME:JST
END:STANDARD
END:VTIMEZONE
END:VCALENDAR