BEGIN:VCALENDAR
VERSION:2.0
PRODID:-//wp-events-plugin.com//7.2.3.1//EN
TZID:Asia/Tokyo
X-WR-TIMEZONE:Asia/Tokyo
BEGIN:VEVENT
UID:119@town.minamifurano.hokkaido.jp
DTSTART;TZID=Asia/Tokyo:20260325T093000
DTEND;TZID=Asia/Tokyo:20260325T120000
DTSTAMP:20260318T025634Z
URL:https://www.town.minamifurano.hokkaido.jp/events/%e3%81%b5%e3%82%8c%e3
 %81%82%e3%81%84%e3%83%ab%e3%83%bc%e3%83%a0-6-2026-03-25/
SUMMARY:ふれあいルーム
DESCRIPTION:
LOCATION:地域交流スペース\, 南富良野町\, 南富良野町\, 北
 海道\, 日本
X-APPLE-STRUCTURED-LOCATION;VALUE=URI;X-ADDRESS=南富良野町\, 南富良
 野町\, 北海道\, 日本;X-APPLE-RADIUS=100;X-TITLE=地域交流スペ
 ース:geo:0,0
END:VEVENT
BEGIN:VTIMEZONE
TZID:Asia/Tokyo
X-LIC-LOCATION:Asia/Tokyo
BEGIN:STANDARD
DTSTART:20250325T093000
TZOFFSETFROM:+0900
TZOFFSETTO:+0900
TZNAME:JST
END:STANDARD
END:VTIMEZONE
END:VCALENDAR