BEGIN:VCALENDAR
VERSION:2.0
PRODID:-//wp-events-plugin.com//7.2.3.1//EN
TZID:Asia/Tokyo
X-WR-TIMEZONE:Asia/Tokyo
BEGIN:VEVENT
UID:9@town.minamifurano.hokkaido.jp
DTSTART;TZID=Asia/Tokyo:20260123T093000
DTEND;TZID=Asia/Tokyo:20260123T160000
DTSTAMP:20260123T011448Z
URL:https://www.town.minamifurano.hokkaido.jp/events/%e3%81%b5%e3%82%8c%e3
 %81%82%e3%81%84%e3%83%ab%e3%83%bc%e3%83%a0-2026-01-23/
SUMMARY:ふれあいルーム
DESCRIPTION:
END:VEVENT
BEGIN:VTIMEZONE
TZID:Asia/Tokyo
X-LIC-LOCATION:Asia/Tokyo
BEGIN:STANDARD
DTSTART:20250123T093000
TZOFFSETFROM:+0900
TZOFFSETTO:+0900
TZNAME:JST
END:STANDARD
END:VTIMEZONE
END:VCALENDAR