BEGIN:VCALENDAR
VERSION:2.0
PRODID:-//wp-events-plugin.com//7.2.3.1//EN
TZID:Asia/Tokyo
X-WR-TIMEZONE:Asia/Tokyo
BEGIN:VEVENT
UID:73@town.minamifurano.hokkaido.jp
DTSTART;TZID=Asia/Tokyo:20260214T120000
DTEND;TZID=Asia/Tokyo:20260214T120000
DTSTAMP:20260129T015155Z
URL:https://www.town.minamifurano.hokkaido.jp/events/%e3%81%8b%e3%81%aa%e3
 %82%84%e3%81%be%e6%b9%96%e3%82%a2%e3%82%a4%e3%82%b9%e3%82%ad%e3%83%a3%e3%8
 3%b3%e3%83%89%e3%83%ab-%e3%83%8a%e3%82%a4%e3%83%88/
SUMMARY:かなやま湖アイスキャンドル ナイト
DESCRIPTION:[かなやま湖畔キャンプ場前　特設会場]
LOCATION:かなやま湖畔キャンプ場\, 北海道空知郡南富良野
 町東鹿越\, 南富良野町\, 北海道\, 079-2411\, 日本
X-APPLE-STRUCTURED-LOCATION;VALUE=URI;X-ADDRESS=北海道空知郡南富良
 野町東鹿越\, 南富良野町\, 北海道\, 079-2411\, 日本;X-APPLE-
 RADIUS=100;X-TITLE=かなやま湖畔キャンプ場:geo:0,0
END:VEVENT
BEGIN:VTIMEZONE
TZID:Asia/Tokyo
X-LIC-LOCATION:Asia/Tokyo
BEGIN:STANDARD
DTSTART:20250214T120000
TZOFFSETFROM:+0900
TZOFFSETTO:+0900
TZNAME:JST
END:STANDARD
END:VTIMEZONE
END:VCALENDAR